BEGIN:VCALENDAR
VERSION:2.0
PRODID:-//AQUAE - ECPv5.8.0//NONSGML v1.0//EN
CALSCALE:GREGORIAN
METHOD:PUBLISH
X-WR-CALNAME:AQUAE
X-ORIGINAL-URL:https://aquae-aube.fr
X-WR-CALDESC:évènements pour AQUAE
BEGIN:VTIMEZONE
TZID:Europe/Paris
BEGIN:DAYLIGHT
TZOFFSETFROM:+0100
TZOFFSETTO:+0200
TZNAME:CEST
DTSTART:20230326T010000
END:DAYLIGHT
BEGIN:STANDARD
TZOFFSETFROM:+0200
TZOFFSETTO:+0100
TZNAME:CET
DTSTART:20231029T010000
END:STANDARD
END:VTIMEZONE
BEGIN:VEVENT
DTSTART;VALUE=DATE:20230708
DTEND;VALUE=DATE:20230709
DTSTAMP:20260421T102923
CREATED:20230713T164952Z
LAST-MODIFIED:20230713T164952Z
UID:2137-1688774400-1688860799@aquae-aube.fr
SUMMARY:Aquae fête ses 15 ans !
DESCRIPTION:10 heures pour l’Assemblée Générale – Repas – Randonnée de 8 km autour de Sainte-Maure et Barberey.
URL:https://aquae-aube.fr/index.php/event/aquae-fete-ses-15-ans/
LOCATION:Siège de l’Association\, 105\, route de Méry\, Sainte-Maure\, 10150
END:VEVENT
END:VCALENDAR